BEGIN:VCALENDAR
VERSION:2.0
PRODID:-//Bienestar Human Services - ECPv4.6.21//NONSGML v1.0//EN
CALSCALE:GREGORIAN
METHOD:PUBLISH
X-WR-CALNAME:Bienestar Human Services
X-ORIGINAL-URL:https://www.bienestar.org
X-WR-CALDESC:Events for Bienestar Human Services
BEGIN:VEVENT
DTSTART;TZID=UTC+0:20181013T170000
DTEND;TZID=UTC+0:20181013T220000
DTSTAMP:20210915T155821
CREATED:20180808T012552Z
LAST-MODIFIED:20180808T012552Z
UID:842-1539450000-1539468000@www.bienestar.org
SUMMARY:Latin Factory 2018
DESCRIPTION:  \n \nYou are cordially invited to BIENESTAR’s annual fashion show fundraiser\, Latin Factory 2018! On Saturday\, October\, 13th\, six Latino fashion designers will present their designs for all of LA to see at the luxurious Globe Theatre in Downtown LA. \nJoin us for a night of fashion\, fun\, drinks and community! More information about our surprise guest host coming soon! \nTickets can be purchased now at: LatinFactory.BrownPaperTickets.com \n
URL:https://www.bienestar.org/event/latin-factory-2018/
LOCATION:740 S Broadway\, Los Angeles\, CA\, 90014\, United States
END:VEVENT
END:VCALENDAR